BEGIN:VCALENDAR
PRODID:-//EventGuide//NONSGML MetroManager 1.1//EN
VERSION:2.0
METHOD:PUBLISH
BEGIN:VEVENT
DTSTART:20260426T193000
UID:20260331T193000Z-jfk53777824@eventguide.com
DTSTAMP:20260426T124949Z
DESCRIPTION:Off-Broadway theatrical performance\nNew York Metro Area\nNew York, NY 10001\n212-315-2244
SUMMARY:Little Shop Of Horrors
LOCATION:New York Metro Area
END:VEVENT
END:VCALENDAR
