BEGIN:VCALENDAR
PRODID:-//EventGuide//NONSGML MetroManager 1.1//EN
VERSION:2.0
METHOD:PUBLISH
BEGIN:VEVENT
DTSTART:20261020T190000
UID:20260331T190000Z-jfk537778175@eventguide.com
DTSTAMP:20261020T124954Z
DESCRIPTION:Off-Broadway theatrical performance\nNew York Metro Area\nNew York, NY 10001\n212-315-2244
SUMMARY:Little Shop Of Horrors
LOCATION:New York Metro Area
END:VEVENT
END:VCALENDAR
