BEGIN:VCALENDAR
PRODID:-//EventGuide//NONSGML MetroManager 1.1//EN
VERSION:2.0
METHOD:PUBLISH
BEGIN:VEVENT
DTSTART:20260827T190000
UID:20260331T190000Z-jfk537778129@eventguide.com
DTSTAMP:20260827T124953Z
DESCRIPTION:Off-Broadway theatrical performance\nNew York Metro Area\nNew York, NY 10001\n212-315-2244
SUMMARY:Little Shop Of Horrors
LOCATION:New York Metro Area
END:VEVENT
END:VCALENDAR
