BEGIN:VCALENDAR
PRODID:-//EventGuide//NONSGML MetroManager 1.1//EN
VERSION:2.0
METHOD:PUBLISH
BEGIN:VEVENT
DTSTART:20260531T130000
UID:20260331T130000Z-lax51595704@eventguide.com
DTSTAMP:20260531T160916Z
DESCRIPTION:Musical theatrical performance\nLos Angeles Metro Area\nLos Angeles, CA \n805-449-2787
SUMMARY:Mrs. Doubtfire - The Musical
LOCATION:Los Angeles Metro Area
END:VEVENT
END:VCALENDAR
