BEGIN:VCALENDAR
PRODID:-//EventGuide//NONSGML MetroManager 1.1//EN
VERSION:2.0
METHOD:PUBLISH
BEGIN:VEVENT
DTSTART:20260403T190000
UID:20260331T190000Z-lax51572101@eventguide.com
DTSTAMP:20260403T160813Z
DESCRIPTION:Pop / rock performance\nLos Angeles Metro Area\nLos Angeles, CA \n213-388-1400
SUMMARY:Calum Scott
LOCATION:Los Angeles Metro Area
END:VEVENT
END:VCALENDAR
