BEGIN:VCALENDAR
PRODID:-//EventGuide//NONSGML MetroManager 1.1//EN
VERSION:2.0
METHOD:PUBLISH
BEGIN:VEVENT
DTSTART:20260613T190000
UID:20260331T190000Z-las51012401@eventguide.com
DTSTAMP:20260613T145108Z
DESCRIPTION:Alternative music performance\nLas Vegas Metro Area\nLas Vegas, NV \n702-732-7117
SUMMARY:A.J. Croce
LOCATION:Las Vegas Metro Area
END:VEVENT
END:VCALENDAR
