BEGIN:VCALENDAR
PRODID:-//EventGuide//NONSGML MetroManager 1.1//EN
VERSION:2.0
METHOD:PUBLISH
BEGIN:VEVENT
DTSTART:20260413T183000
UID:20260331T183000Z-las51010701@eventguide.com
DTSTAMP:20260413T145052Z
DESCRIPTION:Alternative music performance\nLas Vegas Metro Area\nLas Vegas, NV \n702-642-1213
SUMMARY:Saturdays At Your Place
LOCATION:Las Vegas Metro Area
END:VEVENT
END:VCALENDAR
