BEGIN:VCALENDAR
PRODID:-//EventGuide//NONSGML MetroManager 1.1//EN
VERSION:2.0
METHOD:PUBLISH
BEGIN:VEVENT
DTSTART:20260404T180000
UID:20260331T180000Z-las51003801@eventguide.com
DTSTAMP:20260404T145022Z
DESCRIPTION:Reggae / reggaeton concert performance\nLas Vegas Metro Area\nLas Vegas, NV \n702-846-1900
SUMMARY:Fortunate Youth
LOCATION:Las Vegas Metro Area
END:VEVENT
END:VCALENDAR
