BEGIN:VCALENDAR
PRODID:-//EventGuide//NONSGML MetroManager 1.1//EN
VERSION:2.0
METHOD:PUBLISH
BEGIN:VEVENT
DTSTART:20260615T200000
UID:20260331T200000Z-las51003101@eventguide.com
DTSTAMP:20260615T145020Z
DESCRIPTION:Alternative music performance\nLas Vegas Metro Area\nLas Vegas, NV \n702-693-5000
SUMMARY:Amble
LOCATION:Las Vegas Metro Area
END:VEVENT
END:VCALENDAR
