BEGIN:VCALENDAR
PRODID:-//EventGuide//NONSGML MetroManager 1.1//EN
VERSION:2.0
METHOD:PUBLISH
BEGIN:VEVENT
DTSTART:20260913T140500
UID:20260329T140500Z-jax50064412@eventguide.com
DTSTAMP:20260913T224014Z
DESCRIPTION:Minor-league (AAA) baseball game\nJacksonville Metro Area\nJacksonville, FL \n904-630-3900
SUMMARY:Jacksonville Jumbo Shrimp vs. Gwinnett Stripers
LOCATION:Jacksonville Metro Area
END:VEVENT
END:VCALENDAR
