BEGIN:VCALENDAR
PRODID:-//EventGuide//NONSGML MetroManager 1.1//EN
VERSION:2.0
METHOD:PUBLISH
BEGIN:VEVENT
DTSTART:20260515T193000
UID:20260409T193000Z-gnv50069901@eventguide.com
DTSTAMP:20260515T173143Z
DESCRIPTION:Comedic performance live\nGainesville Metro Area\nGainesville, FL \n352-351-1606
SUMMARY:Jim Breuer
LOCATION:Gainesville Metro Area
END:VEVENT
END:VCALENDAR
