BEGIN:VCALENDAR
PRODID:-//EventGuide//NONSGML MetroManager 1.1//EN
VERSION:2.0
METHOD:PUBLISH
BEGIN:VEVENT
DTSTART:20260710T193000
UID:20260409T193000Z-gnv50069801@eventguide.com
DTSTAMP:20260710T173142Z
DESCRIPTION:Performing country music live\nGainesville Metro Area\nGainesville, FL \n352-351-1606
SUMMARY:Jake Hoot
LOCATION:Gainesville Metro Area
END:VEVENT
END:VCALENDAR
