BEGIN:VCALENDAR
PRODID:-//EventGuide//NONSGML MetroManager 1.1//EN
VERSION:2.0
METHOD:PUBLISH
BEGIN:VEVENT
DTSTART:20260520T190000
UID:20260409T190000Z-gnv50068401@eventguide.com
DTSTAMP:20260520T173127Z
DESCRIPTION:Alternative music performance\nGainesville Metro Area\nGainesville, FL \n352-448-4849
SUMMARY:Santigold
LOCATION:Gainesville Metro Area
END:VEVENT
END:VCALENDAR
