BEGIN:VCALENDAR
PRODID:-//EventGuide//NONSGML MetroManager 1.1//EN
VERSION:2.0
METHOD:PUBLISH
BEGIN:VEVENT
DTSTART:20260529T200000
UID:20260409T200000Z-gnv50068201@eventguide.com
DTSTAMP:20260529T173125Z
DESCRIPTION:Performing country music live\nGainesville Metro Area\nGainesville, FL \n352-448-4849
SUMMARY:Ole 60
LOCATION:Gainesville Metro Area
END:VEVENT
END:VCALENDAR
