BEGIN:VCALENDAR
PRODID:-//EventGuide//NONSGML MetroManager 1.1//EN
VERSION:2.0
METHOD:PUBLISH
BEGIN:VEVENT
DTSTART:20260515T173000
UID:20260409T173000Z-gnv50068001@eventguide.com
DTSTAMP:20260515T173122Z
DESCRIPTION:Performing country music live\nGainesville Metro Area\nGainesville, FL \n352-375-4683
SUMMARY:Morgan Wallen, Thomas Rhett, Gavin Adcock, & Zach John King
LOCATION:Gainesville Metro Area
END:VEVENT
END:VCALENDAR
