BEGIN:VCALENDAR
PRODID:-//EventGuide//NONSGML MetroManager 1.1//EN
VERSION:2.0
METHOD:PUBLISH
BEGIN:VEVENT
DTSTART:20260613T073000
DTEND:20260613T180000
UID:20260417T073000Z-fll51281601@eventguide.com
DTSTAMP:20260613T134441Z
DESCRIPTION:A fun-filled day of volleyball, music raffle, prizes, lunch, dinner, beverages and more to make a difference in the lives of adults and children with developmental...\nFort Lauderdale Metro Area\nFort Lauderdale, FL 
SUMMARY:Ann Storck Center's 40th Annual All Heart Volleyball Challenge
LOCATION:Fort Lauderdale Metro Area
END:VEVENT
END:VCALENDAR
