BEGIN:VCALENDAR
PRODID:-//EventGuide//NONSGML MetroManager 1.1//EN
VERSION:2.0
METHOD:PUBLISH
BEGIN:VEVENT
DTSTART:20260614T180000
UID:20260409T180000Z-dab50069701@eventguide.com
DTSTAMP:20260614T142704Z
DESCRIPTION:Reggae / reggaeton concert performance\nDaytona Beach Metro Area\nDaytona Beach, FL \n386-873-2943
SUMMARY:Fortunate Youth
LOCATION:Daytona Beach Metro Area
END:VEVENT
END:VCALENDAR
