BEGIN:VCALENDAR
PRODID:-//EventGuide//NONSGML MetroManager 1.1//EN
VERSION:2.0
METHOD:PUBLISH
BEGIN:VEVENT
DTSTART:20260510T120000
UID:20260409T120000Z-dab50067301@eventguide.com
DTSTAMP:20260510T142635Z
DESCRIPTION:Festival tour performance with My Chemical Romance, Rise Against, All Time Low & Coheed and Cambria\nDaytona Beach Metro Area\nDaytona Beach, FL \n386-254-2700
SUMMARY:Welcome To Rockville
LOCATION:Daytona Beach Metro Area
END:VEVENT
END:VCALENDAR
