BEGIN:VCALENDAR
PRODID:-//EventGuide//NONSGML MetroManager 1.1//EN
VERSION:2.0
METHOD:PUBLISH
BEGIN:VEVENT
DTSTART:20261126T080000
UID:20260419T080000Z-ord52926701@eventguide.com
DTSTAMP:20261126T212124Z
DESCRIPTION:Held on State Street in downtown Chicago, this Thanksgiving parade features marching bands, giant balloons, and festive floats, traveling from Ida B...\nChicago Metro Area\nChicago, IL 
SUMMARY:Chicago Thanksgiving Parade
LOCATION:Chicago Metro Area
END:VEVENT
END:VCALENDAR
