BEGIN:VCALENDAR
PRODID:-//EventGuide//NONSGML MetroManager 1.1//EN
VERSION:2.0
METHOD:PUBLISH
BEGIN:VEVENT
DTSTART:20261009T170000
DTEND:20261009T220000
UID:20260419T170000Z-ord52926601@eventguide.com
DTSTAMP:20261009T212123Z
DESCRIPTION:A 3-day outdoor event held each fall at Jonquil Park in Chicago, featuring curated wine tastings, food pairings, live music, and artisan vendors. Ticketed...\nChicago Metro Area\nChicago, IL 
SUMMARY:Lincoln Park Wine Festival
LOCATION:Chicago Metro Area
END:VEVENT
END:VCALENDAR
