BEGIN:VCALENDAR
PRODID:-//EventGuide//NONSGML MetroManager 1.1//EN
VERSION:2.0
METHOD:PUBLISH
BEGIN:VEVENT
DTSTART:20261031T193000
UID:20260419T193000Z-ord52926501@eventguide.com
DTSTAMP:20261031T212123Z
DESCRIPTION:A high-energy, LGBTQ-friendly celebration on Halsted Street (Belmont to Brompton) featuring a costumed parade, live performances, a major costume contest...\nChicago Metro Area\nChicago, IL 
SUMMARY:Haunted Halsted Halloween Parade
LOCATION:Chicago Metro Area
END:VEVENT
END:VCALENDAR
