BEGIN:VCALENDAR
PRODID:-//EventGuide//NONSGML MetroManager 1.1//EN
VERSION:2.0
METHOD:PUBLISH
BEGIN:VEVENT
DTSTART:20260724T160000
DTEND:20260724T220000
UID:20260419T160000Z-ord52926301@eventguide.com
DTSTAMP:20260724T212121Z
DESCRIPTION:A celebration of the village's heritage, bringing the community together at Spella Park for family-friendly fun and live entertainment. The festival...\nChicago Metro Area\nChicago, IL 
SUMMARY:Algonquin Fest
LOCATION:Chicago Metro Area
END:VEVENT
END:VCALENDAR
