BEGIN:VCALENDAR
PRODID:-//EventGuide//NONSGML MetroManager 1.1//EN
VERSION:2.0
METHOD:PUBLISH
BEGIN:VEVENT
DTSTART:20260507T190000
UID:20260419T190000Z-ord52915001@eventguide.com
DTSTAMP:20260507T212046Z
DESCRIPTION:Live rock / metal music\nChicago Metro Area\nChicago, IL 
SUMMARY:Confessions Of A Traitor
LOCATION:Chicago Metro Area
END:VEVENT
END:VCALENDAR
