BEGIN:VCALENDAR
PRODID:-//EventGuide//NONSGML MetroManager 1.1//EN
VERSION:2.0
METHOD:PUBLISH
BEGIN:VEVENT
DTSTART:20260513T190000
UID:20260419T190000Z-ord52909401@eventguide.com
DTSTAMP:20260513T212030Z
DESCRIPTION:Comedic performance live\nChicago Metro Area\nChicago, IL \n847-240-2001
SUMMARY:James McCann
LOCATION:Chicago Metro Area
END:VEVENT
END:VCALENDAR
