BEGIN:VCALENDAR
PRODID:-//EventGuide//NONSGML MetroManager 1.1//EN
VERSION:2.0
METHOD:PUBLISH
BEGIN:VEVENT
DTSTART:20260501T204500
UID:20260419T204500Z-ord52903101@eventguide.com
DTSTAMP:20260501T212012Z
DESCRIPTION:Live concert performance\nChicago Metro Area\nChicago, IL \n708-383-6775
SUMMARY:Candlelight: Tribute to Bad Bunny
LOCATION:Chicago Metro Area
END:VEVENT
END:VCALENDAR
