BEGIN:VCALENDAR
PRODID:-//EventGuide//NONSGML MetroManager 1.1//EN
VERSION:2.0
METHOD:PUBLISH
BEGIN:VEVENT
DTSTART:20260626T210000
UID:20260419T210000Z-ord52863701@eventguide.com
DTSTAMP:20260626T211820Z
DESCRIPTION:Pop / rock performance\nChicago Metro Area\nChicago, IL \n312-949-0120
SUMMARY:Radkey
LOCATION:Chicago Metro Area
END:VEVENT
END:VCALENDAR
