BEGIN:VCALENDAR
PRODID:-//EventGuide//NONSGML MetroManager 1.1//EN
VERSION:2.0
METHOD:PUBLISH
BEGIN:VEVENT
DTSTART:20260501T200000
UID:20260419T200000Z-ord52859601@eventguide.com
DTSTAMP:20260501T211809Z
DESCRIPTION:Pop / rock performance\nChicago Metro Area\nChicago, IL \n312-929-5959
SUMMARY:Anuv Jain
LOCATION:Chicago Metro Area
END:VEVENT
END:VCALENDAR
