BEGIN:VCALENDAR
PRODID:-//EventGuide//NONSGML MetroManager 1.1//EN
VERSION:2.0
METHOD:PUBLISH
BEGIN:VEVENT
DTSTART:20260509T200000
UID:20260419T200000Z-ord52844601@eventguide.com
DTSTAMP:20260509T211703Z
DESCRIPTION:Pop / rock performance\nChicago Metro Area\nChicago, IL 
SUMMARY:Michael McDermott
LOCATION:Chicago Metro Area
END:VEVENT
END:VCALENDAR
