BEGIN:VCALENDAR
PRODID:-//EventGuide//NONSGML MetroManager 1.1//EN
VERSION:2.0
METHOD:PUBLISH
BEGIN:VEVENT
DTSTART:20260625T200000
UID:20260419T200000Z-ord52844501@eventguide.com
DTSTAMP:20260625T211702Z
DESCRIPTION:Alternative music performance\nChicago Metro Area\nChicago, IL 
SUMMARY:Michael Glabicki
LOCATION:Chicago Metro Area
END:VEVENT
END:VCALENDAR
