BEGIN:VCALENDAR
PRODID:-//EventGuide//NONSGML MetroManager 1.1//EN
VERSION:2.0
METHOD:PUBLISH
BEGIN:VEVENT
DTSTART:20260531T180000
UID:20260331T180000Z-ord52822101@eventguide.com
DTSTAMP:20260531T033136Z
DESCRIPTION:Automobile racing event\nChicago Metro Area\nChicago, IL \n815-740-8000
SUMMARY:Import Face-Off
LOCATION:Chicago Metro Area
END:VEVENT
END:VCALENDAR
