BEGIN:VCALENDAR
PRODID:-//EventGuide//NONSGML MetroManager 1.1//EN
VERSION:2.0
METHOD:PUBLISH
BEGIN:VEVENT
DTSTART:20260524T140000
UID:20260419T140000Z-ord52801326@eventguide.com
DTSTAMP:20260524T211458Z
DESCRIPTION:Musical theatrical performance\nChicago Metro Area\nChicago, IL \n630-530-0111
SUMMARY:Father Of The Bride
LOCATION:Chicago Metro Area
END:VEVENT
END:VCALENDAR
