BEGIN:VCALENDAR
PRODID:-//EventGuide//NONSGML MetroManager 1.1//EN
VERSION:2.0
METHOD:PUBLISH
BEGIN:VEVENT
DTSTART:20260518T190000
UID:20260419T190000Z-ord52778105@eventguide.com
DTSTAMP:20260518T211347Z
DESCRIPTION:Comedic performance live\nChicago Metro Area\nChicago, IL \n312-266-3337
SUMMARY:Vik Pandya
LOCATION:Chicago Metro Area
END:VEVENT
END:VCALENDAR
