BEGIN:VCALENDAR
PRODID:-//EventGuide//NONSGML MetroManager 1.1//EN
VERSION:2.0
METHOD:PUBLISH
BEGIN:VEVENT
DTSTART:20260519T190000
UID:20260419T190000Z-ord52778005@eventguide.com
DTSTAMP:20260519T211346Z
DESCRIPTION:Comedic performance live\nChicago Metro Area\nChicago, IL \n312-266-3337
SUMMARY:Tomato Throw Show
LOCATION:Chicago Metro Area
END:VEVENT
END:VCALENDAR
