BEGIN:VCALENDAR
PRODID:-//EventGuide//NONSGML MetroManager 1.1//EN
VERSION:2.0
METHOD:PUBLISH
BEGIN:VEVENT
DTSTART:20260507T190000
UID:20260419T190000Z-ord52777603@eventguide.com
DTSTAMP:20260507T211345Z
DESCRIPTION:Comedic performance live\nChicago Metro Area\nChicago, IL \n312-266-3337
SUMMARY:OhJay Lamont
LOCATION:Chicago Metro Area
END:VEVENT
END:VCALENDAR
