BEGIN:VCALENDAR
PRODID:-//EventGuide//NONSGML MetroManager 1.1//EN
VERSION:2.0
METHOD:PUBLISH
BEGIN:VEVENT
DTSTART:20260919T180000
UID:20260419T180000Z-ord52418404@eventguide.com
DTSTAMP:20260919T210023Z
DESCRIPTION:Featuring standout performances Ernest Dawkins, Adegoke Steve Colson, Renee Baker, and more\nChicago Metro Area\nChicago, IL \n312-747-6174
SUMMARY:Englewood Jazz Festival
LOCATION:Chicago Metro Area
END:VEVENT
END:VCALENDAR
