BEGIN:VCALENDAR
PRODID:-//EventGuide//NONSGML MetroManager 1.1//EN
VERSION:2.0
METHOD:PUBLISH
BEGIN:VEVENT
DTSTART:20260503T120000
DTEND:20260503T180000
UID:20260419T120000Z-ord52410806@eventguide.com
DTSTAMP:20260503T210002Z
DESCRIPTION:A three-day event features live performances, music, art, and interactive activities for all ages. Explore the Mercadito showcasing artisans from Mexico...\nChicago Metro Area\nChicago, IL \n312-595-PIER
SUMMARY:Mexico Fest
LOCATION:Chicago Metro Area
END:VEVENT
END:VCALENDAR
