BEGIN:VCALENDAR
PRODID:-//EventGuide//NONSGML MetroManager 1.1//EN
VERSION:2.0
METHOD:PUBLISH
BEGIN:VEVENT
DTSTART:20260529T203000
UID:20260419T203000Z-ord52307201@eventguide.com
DTSTAMP:20260529T205612Z
DESCRIPTION:Live rock / metal music\nChicago Metro Area\nChicago, IL \n847-261-0392
SUMMARY:Hairbangers Ball
LOCATION:Chicago Metro Area
END:VEVENT
END:VCALENDAR
