BEGIN:VCALENDAR
PRODID:-//EventGuide//NONSGML MetroManager 1.1//EN
VERSION:2.0
METHOD:PUBLISH
BEGIN:VEVENT
DTSTART:20261002T193000
UID:20260419T193000Z-ord52083701@eventguide.com
DTSTAMP:20261002T204759Z
DESCRIPTION:Lecture event\nChicago Metro Area\nChicago, IL \n312-462-6363
SUMMARY:MrBallen
LOCATION:Chicago Metro Area
END:VEVENT
END:VCALENDAR
