BEGIN:VCALENDAR
PRODID:-//EventGuide//NONSGML MetroManager 1.1//EN
VERSION:2.0
METHOD:PUBLISH
BEGIN:VEVENT
DTSTART:20260509T200000
UID:20260419T200000Z-ord51883603@eventguide.com
DTSTAMP:20260509T204026Z
DESCRIPTION:Latin music in concert\nChicago Metro Area\nChicago, IL \n312-943-7000
SUMMARY:Peso Pluma
LOCATION:Chicago Metro Area
END:VEVENT
END:VCALENDAR
