BEGIN:VCALENDAR
PRODID:-//EventGuide//NONSGML MetroManager 1.1//EN
VERSION:2.0
METHOD:PUBLISH
BEGIN:VEVENT
DTSTART:20260619T200000
UID:20260417T200000Z-ord51796301@eventguide.com
DTSTAMP:20260619T181746Z
DESCRIPTION:Alternative music performance\nChicago Metro Area\nChicago, IL \n847-795-0777
SUMMARY:Gin Blossoms
LOCATION:Chicago Metro Area
END:VEVENT
END:VCALENDAR
