BEGIN:VCALENDAR
PRODID:-//EventGuide//NONSGML MetroManager 1.1//EN
VERSION:2.0
METHOD:PUBLISH
BEGIN:VEVENT
DTSTART:20260929T200000
UID:20260417T200000Z-ord51756601@eventguide.com
DTSTAMP:20260929T181742Z
DESCRIPTION:Pop / rock performance\nChicago Metro Area\nChicago, IL \n312-526-3851
SUMMARY:Arlo Parks
LOCATION:Chicago Metro Area
END:VEVENT
END:VCALENDAR
