BEGIN:VCALENDAR
PRODID:-//EventGuide//NONSGML MetroManager 1.1//EN
VERSION:2.0
METHOD:PUBLISH
BEGIN:VEVENT
DTSTART:20260814T193000
UID:20260419T193000Z-ord51619901@eventguide.com
DTSTAMP:20260814T203005Z
DESCRIPTION:Alternative music performance\nChicago Metro Area\nChicago, IL \n312-923-2000
SUMMARY:The Dear Hunter
LOCATION:Chicago Metro Area
END:VEVENT
END:VCALENDAR
