BEGIN:VCALENDAR
PRODID:-//EventGuide//NONSGML MetroManager 1.1//EN
VERSION:2.0
METHOD:PUBLISH
BEGIN:VEVENT
DTSTART:20260731T200000
UID:20260419T200000Z-ord51541501@eventguide.com
DTSTAMP:20260731T202658Z
DESCRIPTION:Live concert performance\nChicago Metro Area\nChicago, IL \n630-962-7000
SUMMARY:Arrival From Sweden: The Music of Abba
LOCATION:Chicago Metro Area
END:VEVENT
END:VCALENDAR
