BEGIN:VCALENDAR
PRODID:-//EventGuide//NONSGML MetroManager 1.1//EN
VERSION:2.0
METHOD:PUBLISH
BEGIN:VEVENT
DTSTART:20260614T193000
UID:20260419T193000Z-ord51248701@eventguide.com
DTSTAMP:20260614T201434Z
DESCRIPTION:R&B / soul music performance\nChicago Metro Area\nChicago, IL \n312-472-0449
SUMMARY:Honne
LOCATION:Chicago Metro Area
END:VEVENT
END:VCALENDAR
