BEGIN:VCALENDAR
PRODID:-//EventGuide//NONSGML MetroManager 1.1//EN
VERSION:2.0
METHOD:PUBLISH
BEGIN:VEVENT
DTSTART:20260926T200000
UID:20260419T200000Z-ord51204401@eventguide.com
DTSTAMP:20260926T200820Z
DESCRIPTION:Latin music in concert\nChicago Metro Area\nChicago, IL \n847-671-5100
SUMMARY:Juanes
LOCATION:Chicago Metro Area
END:VEVENT
END:VCALENDAR
