BEGIN:VCALENDAR
PRODID:-//EventGuide//NONSGML MetroManager 1.1//EN
VERSION:2.0
METHOD:PUBLISH
BEGIN:VEVENT
DTSTART:20261112T200000
UID:20260417T200000Z-ord51161101@eventguide.com
DTSTAMP:20261112T181658Z
DESCRIPTION:Performing country music live\nChicago Metro Area\nChicago, IL \n312-526-3851
SUMMARY:Hiss Golden Messenger
LOCATION:Chicago Metro Area
END:VEVENT
END:VCALENDAR
