BEGIN:VCALENDAR
PRODID:-//EventGuide//NONSGML MetroManager 1.1//EN
VERSION:2.0
METHOD:PUBLISH
BEGIN:VEVENT
DTSTART:20260704T100000
UID:20260419T100000Z-ord51141201@eventguide.com
DTSTAMP:20260704T195935Z
DESCRIPTION:Starting at Benton & Broadway, the parade travels along Broadway (Rt. 25) and Downer Place, ending on Middle Avenue. Expect patriotic floats, first responders...\nChicago Metro Area\nChicago, IL 
SUMMARY:Aurora 4th Of July Parade
LOCATION:Chicago Metro Area
END:VEVENT
END:VCALENDAR
