BEGIN:VCALENDAR
PRODID:-//EventGuide//NONSGML MetroManager 1.1//EN
VERSION:2.0
METHOD:PUBLISH
BEGIN:VEVENT
DTSTART:20260510T180000
UID:20260419T180000Z-ord51002501@eventguide.com
DTSTAMP:20260510T194022Z
DESCRIPTION:R&B / soul music performance\nChicago Metro Area\nChicago, IL \n219-473-6060
SUMMARY:Anthony Hamilton
LOCATION:Chicago Metro Area
END:VEVENT
END:VCALENDAR
