BEGIN:VCALENDAR
PRODID:-//EventGuide//NONSGML MetroManager 1.1//EN
VERSION:2.0
METHOD:PUBLISH
BEGIN:VEVENT
DTSTART:20260725T200000
UID:20260419T200000Z-ord50960901@eventguide.com
DTSTAMP:20260725T193526Z
DESCRIPTION:R&B / soul music performance\nChicago Metro Area\nChicago, IL \n219-473-6060
SUMMARY:Ledisi
LOCATION:Chicago Metro Area
END:VEVENT
END:VCALENDAR
