BEGIN:VCALENDAR
PRODID:-//EventGuide//NONSGML MetroManager 1.1//EN
VERSION:2.0
METHOD:PUBLISH
BEGIN:VEVENT
DTSTART:20260627T100000
DTEND:20260627T170000
UID:20260419T100000Z-ord50741701@eventguide.com
DTSTAMP:20260627T190508Z
DESCRIPTION:An array of artwork, including paintings, ceramics, photography, and furniture, showcases the talents of more than 110 juried artists who participate...\nChicago Metro Area\nChicago, IL 
SUMMARY:Millennium Art Festival
LOCATION:Chicago Metro Area
END:VEVENT
END:VCALENDAR
